BEGIN:VCALENDAR
VERSION:2.0
PRODID:http://www.kufer.de/kuferweb / DE
METHOD:PUBLISH
CALSCALE:GREGORIAN
X-WR-TIMEZONE:Europe/Berlin
BEGIN:VTIMEZONE
TZID:Europe/Berlin
X-LIC-LOCATION:Europe/Berlin
BEGIN:DAYLIGHT
TZOFFSETFROM:+0100
TZOFFSETTO:+0200
TZNAME:CEST
DTSTART;TZID=Europe/Berlin:19700329T020000
RRULE:FREQ=YEARLY;INTERVAL=1;BYDAY=-1SU;BYMONTH=3
END:DAYLIGHT
BEGIN:STANDARD
TZOFFSETFROM:+0200
TZOFFSETTO:+0100
TZNAME:CET
DTSTART;TZID=Europe/Berlin:19701025T030000
RRULE:FREQ=YEARLY;INTERVAL=1;BYDAY=-1SU;BYMONTH=10
END:STANDARD
END:VTIMEZONE
BEGIN:VEVENT
DTSTAMP:20260421T135213
DTSTART;TZID=Europe/Berlin:20260804T183000
DTEND;TZID=Europe/Berlin:20260804T200000
UID:26A3C3170K-20260804T183000@VHSNIENBURG
SUMMARY:Rückenstärkung und Mobilität - mit Bauchtanz Fortgeschrittene (26A3C3170K) 
LOCATION:Nienburg/vhs-Haus, D001/Forum, Rühmkorffstraße 12, 31582 Nienburg
END:VEVENT
BEGIN:VEVENT
DTSTAMP:20260421T135213
DTSTART;TZID=Europe/Berlin:20260811T183000
DTEND;TZID=Europe/Berlin:20260811T200000
UID:26A3C3170K-20260811T183000@VHSNIENBURG
SUMMARY:Rückenstärkung und Mobilität - mit Bauchtanz Fortgeschrittene (26A3C3170K) 
LOCATION:Nienburg/vhs-Haus, D001/Forum, Rühmkorffstraße 12, 31582 Nienburg
END:VEVENT
BEGIN:VEVENT
DTSTAMP:20260421T135213
DTSTART;TZID=Europe/Berlin:20260818T183000
DTEND;TZID=Europe/Berlin:20260818T200000
UID:26A3C3170K-20260818T183000@VHSNIENBURG
SUMMARY:Rückenstärkung und Mobilität - mit Bauchtanz Fortgeschrittene (26A3C3170K) 
LOCATION:Nienburg/vhs-Haus, D001/Forum, Rühmkorffstraße 12, 31582 Nienburg
END:VEVENT
BEGIN:VEVENT
DTSTAMP:20260421T135213
DTSTART;TZID=Europe/Berlin:20260825T183000
DTEND;TZID=Europe/Berlin:20260825T200000
UID:26A3C3170K-20260825T183000@VHSNIENBURG
SUMMARY:Rückenstärkung und Mobilität - mit Bauchtanz Fortgeschrittene (26A3C3170K) 
LOCATION:Nienburg/vhs-Haus, D001/Forum, Rühmkorffstraße 12, 31582 Nienburg
END:VEVENT
BEGIN:VEVENT
DTSTAMP:20260421T135213
DTSTART;TZID=Europe/Berlin:20260901T183000
DTEND;TZID=Europe/Berlin:20260901T200000
UID:26A3C3170K-20260901T183000@VHSNIENBURG
SUMMARY:Rückenstärkung und Mobilität - mit Bauchtanz Fortgeschrittene (26A3C3170K) 
LOCATION:Nienburg/vhs-Haus, D001/Forum, Rühmkorffstraße 12, 31582 Nienburg
END:VEVENT
BEGIN:VEVENT
DTSTAMP:20260421T135213
DTSTART;TZID=Europe/Berlin:20260908T183000
DTEND;TZID=Europe/Berlin:20260908T200000
UID:26A3C3170K-20260908T183000@VHSNIENBURG
SUMMARY:Rückenstärkung und Mobilität - mit Bauchtanz Fortgeschrittene (26A3C3170K) 
LOCATION:Nienburg/vhs-Haus, D001/Forum, Rühmkorffstraße 12, 31582 Nienburg
END:VEVENT
BEGIN:VEVENT
DTSTAMP:20260421T135213
DTSTART;TZID=Europe/Berlin:20260915T183000
DTEND;TZID=Europe/Berlin:20260915T200000
UID:26A3C3170K-20260915T183000@VHSNIENBURG
SUMMARY:Rückenstärkung und Mobilität - mit Bauchtanz Fortgeschrittene (26A3C3170K) 
LOCATION:Nienburg/vhs-Haus, D001/Forum, Rühmkorffstraße 12, 31582 Nienburg
END:VEVENT
BEGIN:VEVENT
DTSTAMP:20260421T135213
DTSTART;TZID=Europe/Berlin:20260922T183000
DTEND;TZID=Europe/Berlin:20260922T200000
UID:26A3C3170K-20260922T183000@VHSNIENBURG
SUMMARY:Rückenstärkung und Mobilität - mit Bauchtanz Fortgeschrittene (26A3C3170K) 
LOCATION:Nienburg/vhs-Haus, D001/Forum, Rühmkorffstraße 12, 31582 Nienburg
END:VEVENT
END:VCALENDAR